BEGIN:VCALENDAR
VERSION:2.0
PRODID:-//Belmar Public Library - ECPv6.15.0.1//NONSGML v1.0//EN
CALSCALE:GREGORIAN
METHOD:PUBLISH
X-ORIGINAL-URL:https://belmarlibrary.org
X-WR-CALDESC:Events for Belmar Public Library
REFRESH-INTERVAL;VALUE=DURATION:PT1H
X-Robots-Tag:noindex
X-PUBLISHED-TTL:PT1H
BEGIN:VTIMEZONE
TZID:America/New_York
BEGIN:DAYLIGHT
TZOFFSETFROM:-0500
TZOFFSETTO:-0400
TZNAME:EDT
DTSTART:20220313T070000
END:DAYLIGHT
BEGIN:STANDARD
TZOFFSETFROM:-0400
TZOFFSETTO:-0500
TZNAME:EST
DTSTART:20221106T060000
END:STANDARD
END:VTIMEZONE
BEGIN:VEVENT
DTSTART;TZID=America/New_York:20221006T110000
DTEND;TZID=America/New_York:20221006T120000
DTSTAMP:20260425T185826
CREATED:20220921T232613Z
LAST-MODIFIED:20220921T232933Z
UID:10003409-1665054000-1665057600@belmarlibrary.org
SUMMARY:ACTIVE AGING WEEK - Expressive Meditative Art Session For Caregivers of Aging Loved Ones
DESCRIPTION:[vc_row][vc_column icons_position=”left”]ACTIVE AGING WEEK[/vc_column][/vc_row][vc_row][vc_column icons_position=”left”]Expressive Meditative Art Session For Caregivers of Aging Loved OnesPresented by Kat Verdi\, Aging Adult Advocate \n[/vc_column][/vc_row][vc_row][vc_column icons_position=”left”][vc_column_text css=”.vc_custom_1663802958889{margin-right: 25px !important;margin-left: 25px !important;}”]11 am Thursday\, October 6\, 2022 \nLower Level Tarzian Media Room \nCaregivers are important too! \nKat Verdi\, Aging Adult Advocate\, conducts a creative arts activity that gives Caregivers both a respite from the daily stresses and challenges of caregiving\, and shows them how to include Active Aging techniques and strategies to improve the lives of their senior loved ones.[/vc_column_text][/vc_column][/vc_row]
URL:https://belmarlibrary.org/event/active-aging-week-expressive-meditative-art-session-for-caregivers-of-aging-loved-ones/
LOCATION:Belmar Public Library\, 517 10th Ave\, Belmar\, NJ\, 07719\, United States
ATTACH;FMTTYPE=image/png:https://belmarlibrary.org/wp-content/uploads/2022/03/Kat-Verdi-Screen-Shot-2021-08-26-.png
END:VEVENT
END:VCALENDAR